BEGIN:VCALENDAR
VERSION:2.0
PRODID:-//Keeping the Faith Animal Shelter &amp; Rescue Center - ECPv6.15.20//NONSGML v1.0//EN
CALSCALE:GREGORIAN
METHOD:PUBLISH
X-ORIGINAL-URL:https://keepingthefaithanimalshelter.com
X-WR-CALDESC:Events for Keeping the Faith Animal Shelter &amp; Rescue Center
REFRESH-INTERVAL;VALUE=DURATION:PT1H
X-Robots-Tag:noindex
X-PUBLISHED-TTL:PT1H
BEGIN:VTIMEZONE
TZID:America/New_York
BEGIN:DAYLIGHT
TZOFFSETFROM:-0500
TZOFFSETTO:-0400
TZNAME:EDT
DTSTART:20220313T070000
END:DAYLIGHT
BEGIN:STANDARD
TZOFFSETFROM:-0400
TZOFFSETTO:-0500
TZNAME:EST
DTSTART:20221106T060000
END:STANDARD
BEGIN:DAYLIGHT
TZOFFSETFROM:-0500
TZOFFSETTO:-0400
TZNAME:EDT
DTSTART:20230312T070000
END:DAYLIGHT
BEGIN:STANDARD
TZOFFSETFROM:-0400
TZOFFSETTO:-0500
TZNAME:EST
DTSTART:20231105T060000
END:STANDARD
BEGIN:DAYLIGHT
TZOFFSETFROM:-0500
TZOFFSETTO:-0400
TZNAME:EDT
DTSTART:20240310T070000
END:DAYLIGHT
BEGIN:STANDARD
TZOFFSETFROM:-0400
TZOFFSETTO:-0500
TZNAME:EST
DTSTART:20241103T060000
END:STANDARD
END:VTIMEZONE
BEGIN:VTIMEZONE
TZID:UTC
BEGIN:STANDARD
TZOFFSETFROM:+0000
TZOFFSETTO:+0000
TZNAME:UTC
DTSTART:20210101T000000
END:STANDARD
END:VTIMEZONE
BEGIN:VEVENT
DTSTART;TZID=America/New_York:20231109T080000
DTEND;TZID=America/New_York:20231109T200000
DTSTAMP:20260421T140816
CREATED:20230624T161317Z
LAST-MODIFIED:20230624T161320Z
UID:167-1699516800-1699560000@keepingthefaithanimalshelter.com
SUMMARY:Fayette Gives
DESCRIPTION:Fayette Gives is a “day of giving” hosted by the Community Foundation of Fayette County that aims to build a stronger Fayette by engaging the community in philanthropy and supporting local charities. \n\n\n\nDuring this fundraising marathon\, we encourage you to donate to the participating charities – all of which are making a positive impact in Fayette County. \n\n\n\nAs a special incentive\, Fayette Gives donations received at CFFC by 8 p.m. on Fayette Gives day will be enhanced by a prorated percentage of the bonus pool. \n\n\n\nCFFC hosted the first annual Fayette Gives in 2020 and hopes to grow its success for years to come.
URL:https://keepingthefaithanimalshelter.com/event/fayette-gives/
END:VEVENT
BEGIN:VEVENT
DTSTART;TZID=America/New_York:20230924T130000
DTEND;TZID=America/New_York:20230924T170000
DTSTAMP:20260421T140816
CREATED:20230624T161043Z
LAST-MODIFIED:20230624T161047Z
UID:163-1695560400-1695574800@keepingthefaithanimalshelter.com
SUMMARY:Calendar Party
DESCRIPTION:
URL:https://keepingthefaithanimalshelter.com/event/calendar-party/
LOCATION:Uniontown Fire Hall\, 58 Dunbar Street\, Uniontown\, Pennsylvania\, 15401\, United States
END:VEVENT
BEGIN:VEVENT
DTSTART;TZID=America/New_York:20230827T090000
DTEND;TZID=America/New_York:20230827T170000
DTSTAMP:20260421T140816
CREATED:20230624T155246Z
LAST-MODIFIED:20230712T195915Z
UID:148-1693126800-1693155600@keepingthefaithanimalshelter.com
SUMMARY:Columbia Gas Golf Outing
DESCRIPTION:Four person scramble (employees\, friends\, and family welcome).  Benefits Keeping the Faith Animal Shelter and Rescue Center. \n\n\n\nPlease contact one of the following to register your team (limit of 25 teams)\, volunteer\, or donate: \n\n\n\n\n\nDoug DealJessica SizemoreMaddy EtheridgeDeb LewisMatt Oleksik \n\n\n\n\n\n724.321.7050724.963.3526724.550.3074724.970.5324724.912.9820 \n\n\n\n\n\nwddeal@nisource.comjsizemore@nisource.commetheridge@nisource.comdlhixson@nisource.commoleksik@nisource.com
URL:https://keepingthefaithanimalshelter.com/event/columbia-gas-golf-outing/
LOCATION:Duck Hollow Golf Course\, 374 Duck Hollow Road\, Uniontown\, Pennsylvania\, 15401\, United States
END:VEVENT
BEGIN:VEVENT
DTSTART;TZID=America/New_York:20230816T170000
DTEND;TZID=America/New_York:20230816T190000
DTSTAMP:20260421T140816
CREATED:20230624T160743Z
LAST-MODIFIED:20230624T160747Z
UID:161-1692205200-1692212400@keepingthefaithanimalshelter.com
SUMMARY:Yappy Hour
DESCRIPTION:
URL:https://keepingthefaithanimalshelter.com/event/yappy-hour-2/
LOCATION:Hilton Garden Inn Uniontown\, 555 Synergy Drive\, Uniontown\, Pennsylvania\, 15401\, United States
END:VEVENT
BEGIN:VEVENT
DTSTART;TZID=America/New_York:20230719T170000
DTEND;TZID=America/New_York:20230719T190000
DTSTAMP:20260421T140816
CREATED:20230624T160415Z
LAST-MODIFIED:20230624T160419Z
UID:155-1689786000-1689793200@keepingthefaithanimalshelter.com
SUMMARY:Yappy Hour
DESCRIPTION:
URL:https://keepingthefaithanimalshelter.com/event/yappy-hour/
LOCATION:Hilton Garden Inn Uniontown\, 555 Synergy Drive\, Uniontown\, Pennsylvania\, 15401\, United States
END:VEVENT
BEGIN:VEVENT
DTSTART;TZID=America/New_York:20230526T080000
DTEND;TZID=America/New_York:20230526T170000
DTSTAMP:20260421T140816
CREATED:20230515T192159Z
LAST-MODIFIED:20230515T192302Z
UID:143-1685088000-1685120400@keepingthefaithanimalshelter.com
SUMMARY:2nd Annual Pars Fore Paws Golf Scramble
DESCRIPTION:
URL:https://keepingthefaithanimalshelter.com/event/2nd-annual-pars-fore-paws-golf-scramble/
LOCATION:Pleasant Valley Country Club\, 440 Pleasant Valley Road\, Connellsville\, Pennsylvania\, 15425\, United States
ATTACH;FMTTYPE=image/png:https://keepingthefaithanimalshelter.com/wp-content/uploads/2022/03/pars-fore-paws-event-logo.png
ORGANIZER;CN="Keeping the Faith Animal Shelter and Rescue Center":MAILTO:events@ktfshelter.com
END:VEVENT
BEGIN:VEVENT
DTSTART;TZID=UTC:20220527T080000
DTEND;TZID=UTC:20220527T160000
DTSTAMP:20260421T140816
CREATED:20220319T010938Z
LAST-MODIFIED:20230515T191914Z
UID:83-1653638400-1653667200@keepingthefaithanimalshelter.com
SUMMARY:Pars Fore Paws Golf Scramble
DESCRIPTION:
URL:https://keepingthefaithanimalshelter.com/event/pars-fore-paws-golf-scramble/
LOCATION:Pleasant Valley Country Club\, 440 Pleasant Valley Road\, Connellsville\, PA\, 15425\, United States
ATTACH;FMTTYPE=image/png:https://keepingthefaithanimalshelter.com/wp-content/uploads/2022/03/pars-fore-paws-event-logo.png
ORGANIZER;CN="Keeping the Faith Animal Shelter and Rescue Center":MAILTO:events@ktfshelter.com
END:VEVENT
BEGIN:VEVENT
DTSTART;TZID=UTC:20220505T180000
DTEND;TZID=UTC:20220505T210000
DTSTAMP:20260421T140816
CREATED:20220319T005637Z
LAST-MODIFIED:20220429T194528Z
UID:76-1651773600-1651784400@keepingthefaithanimalshelter.com
SUMMARY:Cinco DiBarko Celebrity Bartending Fundraiser
DESCRIPTION:Live entertainment provided by Joe Materkowski & Ed Balling \n\n\n\nChinese Auction and 50/50 prizes will be awarded during event.
URL:https://keepingthefaithanimalshelter.com/event/cinco-dibarkos-celebrity-bartending-fundraiser/
LOCATION:DiMarco’s Bistro and Cantina\, 26 Morgantown Street\, Uniontown\, PA\, 15401\, United States
ATTACH;FMTTYPE=image/jpeg:https://keepingthefaithanimalshelter.com/wp-content/uploads/2022/03/cinco-dibarkos-flyer-2.png.jpg
ORGANIZER;CN="Keeping the Faith Animal Shelter and Rescue Center":MAILTO:events@ktfshelter.com
END:VEVENT
END:VCALENDAR